BEGIN:VCALENDAR
VERSION:2.0
PRODID:-//The London Beat - ECPv4.6.20.1//NONSGML v1.0//EN
CALSCALE:GREGORIAN
METHOD:PUBLISH
X-WR-CALNAME:The London Beat
X-ORIGINAL-URL:http://londonbeat.ca
X-WR-CALDESC:Events for The London Beat
BEGIN:VEVENT
DTSTART;TZID=America/Toronto:20180420T153000
DTEND;TZID=America/Toronto:20180420T170000
DTSTAMP:20260421T223219
CREATED:20180412T141328Z
LAST-MODIFIED:20180412T141707Z
UID:1687-1524238200-1524243600@londonbeat.ca
SUMMARY:2010 Ontario Coaches Conference
DESCRIPTION:416-426-7005 \n
URL:http://londonbeat.ca/event/2010-ontario-coaches-conference/
LOCATION:300 York Street\, London\, ON\, Canada
CATEGORIES:Sports
END:VEVENT
END:VCALENDAR