BEGIN:VCALENDAR
VERSION:2.0
PRODID:-//The London Beat - ECPv4.6.20.1//NONSGML v1.0//EN
CALSCALE:GREGORIAN
METHOD:PUBLISH
X-WR-CALNAME:The London Beat
X-ORIGINAL-URL:http://londonbeat.ca
X-WR-CALDESC:Events for The London Beat
BEGIN:VEVENT
DTSTART;TZID=America/Toronto:20180418T170000
DTEND;TZID=America/Toronto:20180418T190000
DTSTAMP:20260421T190748
CREATED:20180415T134319Z
LAST-MODIFIED:20180415T134339Z
UID:2113-1524070800-1524078000@londonbeat.ca
SUMMARY:Western Accelerator Demo Day
DESCRIPTION:Please join us on April 17th for the Western Accelerator Demo Day to celebrate our cohort’s accomplishments! Come watch pitches from up-and-coming companies and mingle with industry leaders\, entrepreneurs\, and investors from the local startup community. \n
URL:http://londonbeat.ca/event/2113/
LOCATION:1400 Western Road\, London\, ON\, N6G 2V4\, Canada
CATEGORIES:Business
END:VEVENT
END:VCALENDAR