BEGIN:VCALENDAR
VERSION:2.0
PRODID:-//The London Beat - ECPv4.6.20.1//NONSGML v1.0//EN
CALSCALE:GREGORIAN
METHOD:PUBLISH
X-WR-CALNAME:The London Beat
X-ORIGINAL-URL:http://londonbeat.ca
X-WR-CALDESC:Events for The London Beat
BEGIN:VEVENT
DTSTART;TZID=America/Toronto:20180701T110000
DTEND;TZID=America/Toronto:20180701T223000
DTSTAMP:20260421T154452
CREATED:20180620T170619Z
LAST-MODIFIED:20180620T170619Z
UID:10499-1530442800-1530484200@londonbeat.ca
SUMMARY:Canada Day London Harris Park
DESCRIPTION:A Family Friendly Event from 11am – 11pm\, featuring Multiple Food\, Beverage & Treat Vendors\, Live Entertainment\, a Heritage Corner\, Multicultural Performances\, Free Cupcakes\, Exhibitors\, Interactive Games\, Beer Gardens\, Kids Zone & 10 pm Fireworks! \nAll Ages & Free Admission! \nLicensed Beer Gardens become 19+ after 8 pm \nMain Stage Entertainment Schedule coming soon! To learn more\, visit Tourism London’s website \n
URL:http://londonbeat.ca/event/canada-day-london-harris-park/
LOCATION:City Park Entrance Queens or Dundas\, London\, ON\, N6A 2P6\, Canada
CATEGORIES:Entertainment,Festivals,Music
END:VEVENT
END:VCALENDAR