BEGIN:VCALENDAR
VERSION:2.0
PRODID:-//The London Beat - ECPv4.6.20.1//NONSGML v1.0//EN
CALSCALE:GREGORIAN
METHOD:PUBLISH
X-WR-CALNAME:The London Beat
X-ORIGINAL-URL:http://londonbeat.ca
X-WR-CALDESC:Events for The London Beat
BEGIN:VEVENT
DTSTART;TZID=America/Toronto:20180414T100000
DTEND;TZID=America/Toronto:20180414T170000
DTSTAMP:20260421T171613
CREATED:20180411T123129Z
LAST-MODIFIED:20180411T123129Z
UID:1482-1523700000-1523725200@londonbeat.ca
SUMMARY:CTRL V Grand Opening
DESCRIPTION:Canada’s first virtual reality arcade franchise has made it’s way to London\, and will be holding a Grand Opening at their Wharncliffe South location this Saturday. \nCTRL V is the “newest frontier in entertainment” and they are inviting Londoners to come down to the Opening\, and play some of their games for free. There will also be door prizes including a prize pack to celebrate your next birthday at CTRL V with nine of your friends. \n
URL:http://londonbeat.ca/event/ctrl-v-grand-opening/
LOCATION:820 Wharncliffe Road South\, London\, ON\, Canada
CATEGORIES:Entertainment
END:VEVENT
END:VCALENDAR