BEGIN:VCALENDAR
VERSION:2.0
PRODID:-//The London Beat - ECPv4.6.20.1//NONSGML v1.0//EN
CALSCALE:GREGORIAN
METHOD:PUBLISH
X-WR-CALNAME:The London Beat
X-ORIGINAL-URL:http://londonbeat.ca
X-WR-CALDESC:Events for The London Beat
BEGIN:VEVENT
DTSTART;TZID=America/Toronto:20180428T173000
DTEND;TZID=America/Toronto:20180428T230000
DTSTAMP:20260421T205621
CREATED:20180412T141537Z
LAST-MODIFIED:20180412T141537Z
UID:1690-1524936600-1524956400@londonbeat.ca
SUMMARY:Kids Kicking Cancer Vegas Night
DESCRIPTION:Kids Kicking Cancer Canada provides one-on-one support to patients at Children’s Hospital\, London Health Sciences Centre and classes are available in the community to any child in pain and their siblings – all at no cost. A recent study published in the Journal of Paediatric Health\, Medicine and Therapeutics reported 85% of children participating in the martial arts intervention offered by Kids Kicking Cancer\, reported lowering their pain on average of 40%. \nWe invite you to become a Vegas Night sponsor and through your support\, help address the overwhelming needs of children with illness by bringing them this innovative program. By sponsoring Kids Kicking Cancer Canada’s Vegas Night\, you will be communicating your commitment to helping children in pain. The event is also an opportunity to host clients and colleagues\, all the while making a difference in the lives of children and their families. \nCocktails at 5:30 pm\nScrumptious food at 7:00 pm\nBoxing & Entertainment at 9:00 pm\nBlack tie event\nCocktail reception\nFood & host bar\nSilent auction\nRaffle\nCasino games (for fun)\nEntertainment\nBoxing match \n
URL:http://londonbeat.ca/event/kids-kicking-cancer-vegas-night/
LOCATION:300 York Street\, London\, ON\, Canada
CATEGORIES:Charity
END:VEVENT
END:VCALENDAR