BEGIN:VCALENDAR
VERSION:2.0
PRODID:-//The London Beat - ECPv4.6.20.1//NONSGML v1.0//EN
CALSCALE:GREGORIAN
METHOD:PUBLISH
X-WR-CALNAME:The London Beat
X-ORIGINAL-URL:http://londonbeat.ca
X-WR-CALDESC:Events for The London Beat
BEGIN:VEVENT
DTSTART;TZID=America/Toronto:20180420T193000
DTEND;TZID=America/Toronto:20180420T220000
DTSTAMP:20260421T203145
CREATED:20180412T142610Z
LAST-MODIFIED:20180412T142627Z
UID:1692-1524252600-1524261600@londonbeat.ca
SUMMARY:London Poetry Slam Finals
DESCRIPTION:Ten top slammers from London Poetry Slam’s 2017-18 season battle it out and leave it all on stage in an attempt to win their way onto the 2018 London Poetry Slam team. Five lucky poets will be named to the team and travel to the Canadian Festival of Spoken Word\, a national slam competition\, happening this year in Guelph Ontario in October. \n7:30 PM   |  DOORS OPEN @ 6:30 PM\n$10 COVER @ DOOR (NO ADVANCE TICKETS)\nFOR TICKETS CALL (519) 672-7950 \n
URL:http://londonbeat.ca/event/london-poetry-slam-finals/
LOCATION:795 Dundas St. E.\, London\, ON\, N5W 2Z6
CATEGORIES:Arts,Entertainment
END:VEVENT
END:VCALENDAR