BEGIN:VCALENDAR
VERSION:2.0
PRODID:-//The London Beat - ECPv4.6.20.1//NONSGML v1.0//EN
CALSCALE:GREGORIAN
METHOD:PUBLISH
X-WR-CALNAME:The London Beat
X-ORIGINAL-URL:http://londonbeat.ca
X-WR-CALDESC:Events for The London Beat
BEGIN:VEVENT
DTSTART;TZID=America/Toronto:20180907T200000
DTEND;TZID=America/Toronto:20180907T220000
DTSTAMP:20260421T191127
CREATED:20180807T154836Z
LAST-MODIFIED:20180807T154939Z
UID:15715-1536350400-1536357600@londonbeat.ca
SUMMARY:Mick Foley: 20 Years Of Hell
DESCRIPTION:LONDON MUSIC HALL & BARODGE PRESENT\nMICK FOLEY: 20 YEARS OF HELL \nSEPTEMBER 07\, 2018\nDOORS: 7:00 PM / SHOW: 8:00 PM\n$55.00 – $75.00 \nALL AGES / SEATED EVENT / GENERAL ADMISSION FIRST COME FIRST SERVE \n
URL:http://londonbeat.ca/event/mick-foley-20-years-of-hell/
LOCATION:185 Queens Avenue\, London\, ON\, N6A 1G7\, Canada
CATEGORIES:Entertainment
END:VEVENT
END:VCALENDAR