BEGIN:VCALENDAR
VERSION:2.0
PRODID:-//The London Beat - ECPv4.6.20.1//NONSGML v1.0//EN
CALSCALE:GREGORIAN
METHOD:PUBLISH
X-WR-CALNAME:The London Beat
X-ORIGINAL-URL:http://londonbeat.ca
X-WR-CALDESC:Events for The London Beat
BEGIN:VEVENT
DTSTART;TZID=America/Toronto:20180513T130000
DTEND;TZID=America/Toronto:20180513T160000
DTSTAMP:20260421T154348
CREATED:20180427T172504Z
LAST-MODIFIED:20180427T172504Z
UID:4154-1526216400-1526227200@londonbeat.ca
SUMMARY:Mother's Day Tea - Eldon House
DESCRIPTION:ELDON HOUSE INTERPRETIVE CENTRE\nCOST: ADULTS $34.95 + HST\, $24.95 + HST FOR CHILDREN UNDER 12. \nExperience an afternoon tea and an abundant menu of savouries and sweets as you listen to live entertainment and spend a delightful afternoon with your mother. By reservation only. \n
URL:http://londonbeat.ca/event/mothers-day-tea-eldon-house/
LOCATION:481 Ridout Street North\, London\, Ontario\, N6A 2P6\, Canada
END:VEVENT
END:VCALENDAR