BEGIN:VCALENDAR
VERSION:2.0
PRODID:-//The London Beat - ECPv4.6.20.1//NONSGML v1.0//EN
CALSCALE:GREGORIAN
METHOD:PUBLISH
X-WR-CALNAME:The London Beat
X-ORIGINAL-URL:http://londonbeat.ca
X-WR-CALDESC:Events for The London Beat
BEGIN:VEVENT
DTSTART;TZID=America/Toronto:20180415T140000
DTEND;TZID=America/Toronto:20180415T151500
DTSTAMP:20260421T154516
CREATED:20180411T224505Z
LAST-MODIFIED:20180411T224505Z
UID:1566-1523800800-1523805300@londonbeat.ca
SUMMARY:Nathaniel Rankin Presents "Borderline Madness"
DESCRIPTION:2:00pm-3:15pm\n6:00pm-7:15pm \n
URL:http://londonbeat.ca/event/nathaniel-rankin-presents-borderline-madness/
LOCATION:251 Dundas Street\, London\, ON\, Canada
CATEGORIES:Arts
END:VEVENT
END:VCALENDAR