BEGIN:VCALENDAR
VERSION:2.0
PRODID:-//The London Beat - ECPv4.6.20.1//NONSGML v1.0//EN
CALSCALE:GREGORIAN
METHOD:PUBLISH
X-WR-CALNAME:The London Beat
X-ORIGINAL-URL:http://londonbeat.ca
X-WR-CALDESC:Events for The London Beat
BEGIN:VEVENT
DTSTART;TZID=America/Toronto:20180428T200000
DTEND;TZID=America/Toronto:20180429T000000
DTSTAMP:20260421T205219
CREATED:20180427T160012Z
LAST-MODIFIED:20180427T161311Z
UID:4122-1524945600-1524960000@londonbeat.ca
SUMMARY:Night of Play: Supersized Games 2.0
DESCRIPTION:Challenge your friends to a round of Human Hungry Hippos\, Life-sized Clue\, Giant Jenga\, Colossal Kerplunk and more! They’re just like the 90s games you remember – but bigger. \n\n Kick back with The Cardboard Cafe and their collection of 90s board games\n Get jiggy with DJ Alpha and classic 90s jams\n Chill out with delicious brews from the London Brewing Co-Op\n Chow down on food generously provided by Boston Pizza\n\nIt’s going to be totally sweet. \nTickets \n\nGeneral Admission $30 + HST (includes food)\nPurchase your tickets online OR at the Children’s Museum\n\n19+ event. Cash bar. Bring your inner child and your ID! \n
URL:http://londonbeat.ca/event/night-of-play-supersized-games-2-0/
LOCATION:21 Wharncliffe Rd S.\, London\, Ontario\, n6j 4g5\, Canada
END:VEVENT
END:VCALENDAR