BEGIN:VCALENDAR
VERSION:2.0
PRODID:-//The London Beat - ECPv4.6.20.1//NONSGML v1.0//EN
CALSCALE:GREGORIAN
METHOD:PUBLISH
X-WR-CALNAME:The London Beat
X-ORIGINAL-URL:http://londonbeat.ca
X-WR-CALDESC:Events for The London Beat
BEGIN:VEVENT
DTSTART;TZID=America/Toronto:20180719T080000
DTEND;TZID=America/Toronto:20180729T000000
DTSTAMP:20260421T154548
CREATED:20180620T171728Z
LAST-MODIFIED:20180620T171728Z
UID:10501-1531987200-1532822400@londonbeat.ca
SUMMARY:Pride London Festival 2018
DESCRIPTION:Over 11 exciting days in July\, Londoners & visitors to the city will experience\nunique events that highlight our LGBT2Q+ communities in London\, & promote\nunity\, inclusion & awareness of sexual & gender diversity & expression \n
URL:http://londonbeat.ca/event/pride-london-festival-2018/
CATEGORIES:Arts,Festivals
END:VEVENT
END:VCALENDAR