BEGIN:VCALENDAR
VERSION:2.0
PRODID:-//The London Beat - ECPv4.6.20.1//NONSGML v1.0//EN
CALSCALE:GREGORIAN
METHOD:PUBLISH
X-WR-CALNAME:The London Beat
X-ORIGINAL-URL:http://londonbeat.ca
X-WR-CALDESC:Events for The London Beat
BEGIN:VEVENT
DTSTART;TZID=America/Toronto:20180428T200000
DTEND;TZID=America/Toronto:20180429T000000
DTSTAMP:20260421T191110
CREATED:20180427T162123Z
LAST-MODIFIED:20180427T162338Z
UID:4126-1524945600-1524960000@londonbeat.ca
SUMMARY:Pride Men's Chorus London: Broadway Bound
DESCRIPTION:\nPride Men’s Chorus London with Special Guests The Broadway Singers \n\nSaturday April 28\, 2018\n8:00 pm   |  Doors Open @ 7:00 pm\n\nHeadliner – Pride Men’s Chorus London \nJoin Pride Men’s Chorus London for a fun-filled and emotionally charged evening featuring some of the best selections in musical theatre. From traditional show tune classics right up to current Broadway productions\, you will leave after this concert filled with music in your ears. This concert will also feature a guest appearance by one of London’s finest musical groups: the Broadway Singers; there will be over 75 voices on stage. Don’t miss this wonderful opportunity! \nSpecial Guest – The Broadway Singers \nThe Broadway Singers\, established in 2000\, is a choir made up of 40-plus members from all walks of life\, all with a passion for sharing their love of Broadway music. In 2013\, Marque Smith and Rod Culham became co-directors of the choir\, which has become well-known for its musicality\, precision\, and ability to put on a great show! The Broadway Singers are excited to join forces with Pride Men’s Chorus L \n\n
URL:http://londonbeat.ca/event/pride-mens-chorus-london-broadway-bound/
LOCATION:795 Dundas St. E.\, London\, ON\, N5W 2Z6
END:VEVENT
END:VCALENDAR