BEGIN:VCALENDAR
VERSION:2.0
PRODID:-//The London Beat - ECPv4.6.20.1//NONSGML v1.0//EN
CALSCALE:GREGORIAN
METHOD:PUBLISH
X-WR-CALNAME:The London Beat
X-ORIGINAL-URL:http://londonbeat.ca
X-WR-CALDESC:Events for The London Beat
BEGIN:VEVENT
DTSTART;TZID=America/Toronto:20180711T110000
DTEND;TZID=America/Toronto:20180714T230000
DTSTAMP:20260421T154350
CREATED:20180620T165909Z
LAST-MODIFIED:20180620T170229Z
UID:10492-1531306800-1531609200@londonbeat.ca
SUMMARY:Rock The Park 2018
DESCRIPTION:Wednesday July 11th – FM 96 Presents Shinedown\, Chevelle\, Machine Gun Kelly \nThursday July 12th – MixTape Rewind: Cyndi Lauper\, Bret Micheals\, Howard Jones\, Kim Mitchell\, Richard Page of Mr. Mister\, Flock of Seagulls\, Platinum Blonde \nFriday July 13th – Bring Back the 90s: Boyz II Men\, En Vogue\, Naughty by Nature\, Coolio\, Montell Jordan\, Sisqo \nSaturday July 14th – FM 96 Presents: Rise Against\, Three Days Grace\, Theory\, Pop Evil\, Texas King \n  \n  \n  \n
URL:http://londonbeat.ca/event/rock-the-park-2018/
LOCATION:City Park Entrance Queens or Dundas\, London\, ON\, N6A 2P6\, Canada
CATEGORIES:Entertainment,Festivals,Music
END:VEVENT
END:VCALENDAR