BEGIN:VCALENDAR
VERSION:2.0
PRODID:-//The London Beat - ECPv4.6.20.1//NONSGML v1.0//EN
CALSCALE:GREGORIAN
METHOD:PUBLISH
X-WR-CALNAME:The London Beat
X-ORIGINAL-URL:http://londonbeat.ca
X-WR-CALDESC:Events for The London Beat
BEGIN:VEVENT
DTSTART;TZID=America/Toronto:20180506T110000
DTEND;TZID=America/Toronto:20180506T160000
DTSTAMP:20260421T190855
CREATED:20180504T223509Z
LAST-MODIFIED:20180504T223509Z
UID:5107-1525604400-1525622400@londonbeat.ca
SUMMARY:Spring Merry Makers Fair
DESCRIPTION:We invite you to join us on Sunday\, May 6th at the sixth Merry Makers Fair! A 100% handmade event held in the heart of the Forest City. \nThe Merry Makers Fair mission is simple; to inspire and encourage up and coming small\, 100% handmade businesses and connect them to conscious consumers in London. \nHere you’ll find some of the best handmade shopping around\, from Art\, Home Decor\, Jewelry\, Clothing\, Bath and Beauty products – just in time for Mother’s Day! \n
URL:http://londonbeat.ca/event/spring-merry-makers-fair/
LOCATION:130 King Street (corner of King and Talbot) London ON\, London\, ON\, N6A 1C5\, Canada
END:VEVENT
END:VCALENDAR