BEGIN:VCALENDAR
VERSION:2.0
PRODID:-//The London Beat - ECPv4.6.20.1//NONSGML v1.0//EN
CALSCALE:GREGORIAN
METHOD:PUBLISH
X-WR-CALNAME:The London Beat
X-ORIGINAL-URL:http://londonbeat.ca
X-WR-CALDESC:Events for The London Beat
BEGIN:VEVENT
DTSTART;TZID=America/Toronto:20180413T200000
DTEND;TZID=America/Toronto:20180413T213000
DTSTAMP:20260421T171826
CREATED:20180412T004024Z
LAST-MODIFIED:20180412T004024Z
UID:1597-1523649600-1523655000@londonbeat.ca
SUMMARY:STFD Improv Presents: Very Superstitious
DESCRIPTION:
URL:http://londonbeat.ca/event/stfd-improv-presents-very-superstitious/
LOCATION:470 Colborne Ave\, London\, ON\, Canada
CATEGORIES:Music
END:VEVENT
END:VCALENDAR