BEGIN:VCALENDAR
VERSION:2.0
PRODID:-//The London Beat - ECPv4.6.20.1//NONSGML v1.0//EN
CALSCALE:GREGORIAN
METHOD:PUBLISH
X-WR-CALNAME:The London Beat
X-ORIGINAL-URL:http://londonbeat.ca
X-WR-CALDESC:Events for The London Beat
BEGIN:VEVENT
DTSTART;TZID=America/Toronto:20180419T173000
DTEND;TZID=America/Toronto:20180419T200000
DTSTAMP:20260421T204728
CREATED:20180414T215620Z
LAST-MODIFIED:20180414T215620Z
UID:2047-1524159000-1524168000@londonbeat.ca
SUMMARY:Techcellence Awards Celebration & Mixer
DESCRIPTION:Celebrate London Tech Week 2018 at the Techcellence Awards Celebration & Mixer. Join us to honour the excellence of tech entrepreneurs\, start-ups and established tech companies in London and Southwestern Ontario where the Techcellence Awards for Startup Innovation\, Business Growth\, and Community Engagement. \nThis event will also present the opportunity to mix and mingle over refreshments with local tech companies\, entrepreneurs as well as community and business leaders\, all while celebrating our region’s thriving technology sector. \n
URL:http://londonbeat.ca/event/techcellence-awards-celebration-mixer/
LOCATION:100 Dundas St. Suite 700\, London\, ON\, N6A 5N6\, Canada
CATEGORIES:Business,Technology
END:VEVENT
END:VCALENDAR